BEGIN:VCALENDAR
VERSION:2.0
PRODID:-//https://mnar.ro///NONSGML kigkonsult.se iCalcreator 2.10.15//
METHOD:PUBLISH
BEGIN:VEVENT
UID:20260424T192959EEST-5810bGsnU4@https://mnar.ro/
DTSTAMP:20260424T162959Z
DESCRIPTION:Muzeul Național de Artă al României vă invită la o nouă „Întâln
 ire la muzeu” marți\, 14 decembrie\, ora 18. \nInvitatul lui Călin Stegere
 an este de această dată Adrian Cioroianu\, director al Bibliotecii Naționa
 le a României. În cadrul acestei întâlniri\, care va putea fi urmărită exc
 lusiv online\, pe pagina de Facebook a muzeului\, vor fi evocate coordonat
 ele culturale parcurse în calitatea sa de istoric\, realizator de televizi
 une și politician\, respectiv ministru de externe\, europarlamentar și amb
 asador al României la UNESCO.\nEvenimentul face parte din seria activități
 lor pentru public desfășurate în zilele când spațiile expoziționale sunt î
 nchise. „Întâlnire la muzeu” este un proiect care își propune să privilegi
 eze contactul cu personalități din varii domenii ale culturii pe subiecte 
 aflate la interferența diverselor genuri artistice. https://mnar.ro/evenim
 ente-muzeu/eveniment/574-„întâlnire-la-muzeu”-cu-adrian-cioroianu
DTSTART:20211214T180000Z
DTEND:20211214T190000Z
LOCATION:Muzeul Național de Artă al României (Calea Victoriei 49-53\, Bucur
 ești\, România)
SUMMARY:„Întâlnire la muzeu” cu Adrian Cioroianu
URL:https://mnar.ro/evenimente-muzeu/eveniment/574-„întâlnire-la-muzeu”-cu-
 adrian-cioroianu
END:VEVENT
END:VCALENDAR
