BEGIN:VCALENDAR
VERSION:2.0
PRODID:-//https://mnar.ro///NONSGML kigkonsult.se iCalcreator 2.10.15//
METHOD:PUBLISH
BEGIN:VEVENT
UID:20260420T152540EEST-0634AzZL9v@https://mnar.ro/
DTSTAMP:20260420T122540Z
DESCRIPTION:Muzeul Național de Artă al României vă invită la deschiderea se
 zonului expozițional de toamnă cu expoziția creatorului școlii de sculptur
 ă clujene\, Romulus Ladea. Parte din programul MNAR\, care își propune să 
 ofere publicului accesul\, prin expoziții\, la patrimoniul național pe car
 e îl deține sau care se află în colecțiile altor muzee din țară\, prin col
 aborarea cu acestea\, expoziția este organizată după mai bine de 50 de ani
  de la ultima retrospectivă la București.\nÎn viziunea curatoarei\, Judit 
 Balint\, expoziția prezintă o selecție a celor mai importante lucrări ale 
 artistului Romulus Ladea provenind din patrimoniul MNAR\, de la Muzeul de 
 Artă Cluj-Napoca\, Muzeul Naţional de Artă Timişoara\, Complexul Muzeal Ar
 ad\, Muzeul de Artă Brașov\, Muzeul Național Brukenthal\, Muzeul Național 
 Al Banatului\, Muzeul Țării Crișurilor Oradea\, din colecția familiei Lade
 a și cea a domnului Radu Zaciu\, la care se adaugă fotografii și documente
  de la Muzeul Național de Artă Contemporană și o înregistrare audio de la 
 Institutul de Etnografie și Folclor „Constantin Brăiloiu”.\nSculptorul Rom
 ulus Ladea s-a impus în istoria artei autohtone printr-o viziune modernist
 ă și adoptarea unui limbaj sculptural original extras din tradiția popular
 ă locală\, din lecția maeștrilor clasici și din tendințele sculpturii euro
 pene interbelice\, fără a fi tributar niciunei influențe deși a studiat la
  Paris cu Antoine Bourdelle și a lucrat în atelierul lui Constantin Brâncu
 și din Montparnasse.\nCu vocație de mentor\, a avut o contribuție importan
 tă la dezvoltarea învățământului superior de artă din Transilvania\, fiind
  profesor\, cu intermitențe\, în învățământul superior de artă clujean înc
 ă de la înființare și până în anul 1966. Născut la Jitin\, Caraș-Severin\,
  în anul 1901 a trăit și a lucrat la Arad\, Timișoara\, Cluj și în ultimii
  ani la Arcuda\, lângă București\, cu o perioadă de izolare la Suceag\, lâ
 ngă Cluj\, atunci când autoritățile comuniste l-au înlăturat din învățămân
 t. Având o personalitate puternică\, fiind interesat de lărgirea orizontul
 ui său cultural și de dialog\, Ladea a atras în jurul său scriitori și art
 iști\, constituind la Timișoara un cenaclu informal care se întrunea la ca
 feneaua „Spieluhr”. În perioada retragerii la Suceag\, atelierul său a dev
 enit loc de pelerinaj vizitat de studenți\, scriitori\, artiști și ziarișt
 i. A încetat din viață în anul 1970\, iar în semn de prețuire liceul de ar
 te plastice din Cluj-Napoca îi poartă numele.\nCele 33 de sculpturi\, prez
 entate într-o scenografie impecabilă\, se constituie într-un parcurs crono
 logic\, evidențiind evoluția stilistică a sculptorului precum și temele sa
 le principale: portretul și autoportretul\, iubirea\, maternitatea\, famil
 ia\, spiritul sacru\, eroismul. Virtuozitatea sa artistică a însuflețit ma
 teriale precum lemnul\, lutul sau bronzul\, cărora le-a conferit o monumen
 talitate impresionantă\, o expresivitate frapantă\, frustă uneori. Sculptu
 rile sale poartă\, astfel\, amprenta unui spirit puternic care a reușit să
  adauge în configurația sculpturii românești un profil artistic distinct\,
  deosebit de tot ceea ce s-a făcut până la el.\nMonumentele de for public 
 sunt o parte importantă a creației sale\, Ladea fiind autorul unor lucrări
  ce reprezintă mari personalități ale culturii\, cu accent pe figurile-sim
 bol care au contribuit la emanciparea poporului român. Statui cu valoare s
 imbolică în spațiul public clujean\, profund atașate unei conștiințe ident
 itare locale\, precum grupul statuar „Școala ardeleană” (Petru Maior\, Ghe
 orghe Șincai\, Samuil Micu)\, plasat în fața rectoratului Universității Ba
 beș-Bolyai\, Lucian Blaga\, plasat în fața Teatrului Național\, Ion Agârbi
 ceanu\, apar în expoziție prin intermediul unei producții video.&nbsp\;\n„
 Dorim să răspundem apetenței publicului pentru diversitate și înaltă calit
 ate artistică cu o excepțională expoziție de sculptură care va revigora\, 
 sperăm\, interesul pentru acest gen artistic și pentru opera unui artist d
 e sorginte transilvăneană\, Romulus Ladea. Totodată\, ne propunem și cu ac
 eastă expoziție să facem cunoscut extraordinarul patrimoniu artistic pe ca
 re MNAR îl deține și să oferim și altor muzee din țară posibilitatea de a 
 prezenta opere de mare importanță publicului din Capitală” susține directo
 rul general al MNAR Călin-Alexiu Stegerean.\n\nCuratoarea expoziției\, Jud
 it Balint\, coordonează Secția de Artă Orientală și Decorativă a MNAR și p
 roiectul de amenajare al Galeriei de Artă Decorativă Europeană. De formați
 e sculptor\, a obținut doctoratul cu o teză despre arta în spațiul public 
 în România după 1989 și are o experiență de peste 15 ani în cadrul MNAR\, 
 unde a colaborat la organizarea a numeroase expoziții temporare.\nPe parcu
 rsul expoziției curatoarea va susține diverse activități cu caracter educa
 tiv-formativ.\n\nVernisajul va avea loc duminică\, 1 octombrie 2023\, la o
 ra 18.00\, la parterul Galeriei Naționale\, Calea Victoriei nr. 49 -53. Ex
 poziția va fi deschisă în perioada 4 octombrie 2023 - 04 februarie 2024.\n
 \nParteneri instituționali: Muzeul de Artă Cluj-Napoca\, Muzeul Naţional d
 e Artă Timişoara\, Complexul Muzeal Arad\, Muzeul de Artă Brașov\, Muzeul 
 Național Brukenthal\, Muzeul Național al Banatului\, Muzeul Țării Crișuril
 or Oradea\, Muzeul Național de Artă Contemporană\, Institutul de Etnografi
 e și Folclor „Constantin Brăiloiu”.  https://mnar.ro/arhiva-evenimentelor/
 eveniment/704-expoziția-romulus-ladea-sculptură
DTSTART:20231001T114418Z
DTEND:20240204T160000Z
LOCATION:Muzeul Național de Artă al României (Calea Victoriei 49-53\, Bucur
 ești\, România)
SUMMARY:Expoziția Romulus Ladea - Sculptură 
URL:https://mnar.ro/arhiva-evenimentelor/eveniment/704-expoziția-romulus-la
 dea-sculptură
END:VEVENT
END:VCALENDAR
