BEGIN:VCALENDAR
VERSION:2.0
PRODID:-//https://mnar.ro///NONSGML kigkonsult.se iCalcreator 2.10.15//
METHOD:PUBLISH
BEGIN:VEVENT
UID:20260420T152213EEST-00967knBKN@https://mnar.ro/
DTSTAMP:20260420T122213Z
DESCRIPTION:Muzeul Național de Artă al României (MNAR)\, în parteneriat cu 
 Colecția Kontakt și Centrul Național al Dansului București\, vă invită să 
 vizionați o serie de intervenții coregrafice inedite în Galeria de Artă Eu
 ropeană. Acestea fac parte din proiectul „Expoziție colectivă pentru un si
 ngur corp - Partitura privată - București 2023”\, care se va desfășura în 
 perioada 13 septembrie - 1 octombrie 2023\, curatoriat de Pierre Bal-Blanc
  și coregrafiat de Manuel Pelmuș.\nMiercuri\, 13 septembrie 2023\, în inte
 rvalul orar 17.00 - 18.00\, a avut loc o reprezentație specială pentru pre
 să în cadrul festivității de deschide a evenimentului cu Jack Hauser\, Mar
 ia Mora\, Cristian Nanculescu\, Adriano Vicente\, în prezenta curatorului 
 și a coregrafului. Apoi\, timp de trei săptămâni\, de miercuri până dumini
 că\, între orele 14.00 - 18.00\, în toate sălile din Galeria de Artă Europ
 eană a muzeului operele de artă vor prinde viață la propriu grație acestor
  coreografii atent coordonate\, în oglinda personajelor din operele de art
 ă.\nInițiat la Documenta 14 (Atena și Kassel) în 2017\, itinerat la Viena\
 , Leuven\, Paris și Lisabona\, proiectul „Expoziție colectivă pentru un si
 ngur corp - Partitura privată” va avea și o versiune la București în 2023 
 prin expoziția de la Sala OMNIA (Centrul Național al Dansului București) ș
 i coregrafiile de la MNAR. La Sala OMNIA vor fi expuse lucrări de Milan Ad
 amčiak\, Brynjar Åbel Bandlien\, Geta Brătescu\, Anna Daučíková\, VALIE EX
 PORT\, Stano Filko\, Tomislav Gotovac\, Ion Grigorescu\, Sanja Iveković\, 
 Anna Jermolaewa\, Július Koller\, Jiří Kovanda\, Katalin Ladik\, Simon Leu
 ng\, Karel Miler\, Paul Neagu\, Manuel Pelmuş\, Petr Štembera\, Mladen Sti
 linović\, Sven Stilinović\, Slaven Tolj\, Goran Trbuljak\, care vor fi act
 ivate coregrafic în conexiune cu lucrările din Galeria de Artă Europeană a
  Muzeului Național de Artă al României\n https://mnar.ro/arhiva-evenimente
 lor/eveniment/702-intervenții-coregrafice-inspirate-de-opere-de-artă-în-ga
 leria-de-artă-europeană-a-mnar
DTSTART:20230913T070017Z
DTEND:20231001T170000Z
LOCATION:Muzeul Național de Artă al României - Galeria de Artă Europeană ()
SUMMARY:INTERVENȚII COREGRAFICE INSPIRATE DE OPERE DE ARTĂ în Galeria de Ar
 tă Europeană a MNAR
URL:https://mnar.ro/arhiva-evenimentelor/eveniment/702-intervenții-coregraf
 ice-inspirate-de-opere-de-artă-în-galeria-de-artă-europeană-a-mnar
END:VEVENT
END:VCALENDAR
