BEGIN:VCALENDAR
VERSION:2.0
PRODID:-//https://mnar.ro///NONSGML kigkonsult.se iCalcreator 2.10.15//
METHOD:PUBLISH
BEGIN:VEVENT
UID:20260420T151406EEST-2695MmOpKR@https://mnar.ro/
DTSTAMP:20260420T121406Z
DESCRIPTION:Muzeul Național de Artă al României în parteneriat cu Fundația 
 Bonte organizează\, în perioada 18 august – 29 septembrie 2023\, concursul
  pentru acordarea Bursei Bonte pentru cercetarea patrimoniului artistic al
  MNAR. \nAflată la cea de-a doua ediție\, bursa se adresează cercetătorilo
 r cu studii doctorale în curs sau finalizate în istoria și teoria artei\, 
 estetică și studii interdisciplinare. Bursa în valoare de o mie de euro br
 ut lunar\, timp de un an\, va fi atribuită prin concurs unui proiect dedic
 at cercetării patrimoniului artistic al MNAR.&nbsp\;\nDosarele vor fi depu
 se în perioada 18 august – 29 septembrie 2023\; rezultatele evaluărilor vo
 r fi publicate în data de 16 octombrie 2023\; interviurile vor avea loc &n
 bsp\;la sediu sau online în perioada 16-27 octombrie 2023\; anunțarea câșt
 igătorului Bursei Bonte pentru cercetarea patrimoniului artistic mobil al 
 MNAR pe site-ul muzeului se va face în data de 30 octombrie 2023. Bursa va
  fi acordată în intervalul 1 noiembrie 2023 – 31 octombrie 2024.\nBursa fa
 ce parte din instrumentele strategice concepute de MNAR pentru a susține c
 ercetarea de specialitate din România în cadrul muzeului. Aceasta oferă câ
 știgătorului posibilitatea de a avea acces\, cu asistență de specialitate\
 , la patrimoniul artistic și documentar pe care îl deține muzeul\, de a be
 neficia de informațiile cu caracter științific și de a folosi gratuit\, în
  lucrări științifice\, imagini ale operelor cercetate.\nBursa Bonte se ală
 tură Bursei Micaela Eleutheriade\, oferite de MNAR în sprijinirea cercetăr
 ii artistice și teoretice în artele vizuale. Fundația Bonte a fost înființ
 ată de Alain Bonte\, om de afaceri de origine franceză. Fundația colaborea
 ză cu MNAR din anul 2017\,&nbsp\; sprijinind&nbsp\; revenirea în muzeu a d
 ouă importante opere de artă în Galeria Națională. Alain Bonte face parte 
 din conducerea Asociației Prietenii Muzeului Național de Artă al României 
 și a fost decorat cu Ordinul Național „Pentru Merit” în grad de Comandor d
 e către Președintele României\, Klaus-Werner Iohannis\, pentru contribuții
 le aduse promovării intereselor economice și culturale ale României în Por
 tugalia şi în spaţiul european.\n„Oferim\, împreună cu Fundația Bonte\, po
 sibilitatea finanțării generoase a cercetării patrimoniului muzeului nostr
 u\, pe durata unui an calendaristic\, care sperăm să contribuie la creșter
 ea interesului pentru extraordinarul tezaur artistic național pe care Muze
 ul Național de Artă al României îl deține” – apreciază Călin Stegerean\, d
 irector general al MNAR.\n„Suntem încântați să fim alături de Muzeul Națio
 nal de Artă al României în acest demers de sprijin al cercetării patrimoni
 ului național” – apreciază Alain Bonte\, președinte al Fundației Bonte.\nÎ
 nscrieri și regulament aici:\nRegulament Bursa Bonte\n&nbsp\;Rezultatul se
 lecției dosarelor la concursul pentru acordarea Bursei Fundației Bonte 202
 3/2024 pentru cercetarea patrimoniului artistic al MNAR.\n&nbsp\;\nComplet
 are a rezultatelor selecției dosarelor la concursul pentru acordarea Burse
 i Fundației Bonte 2023/2024 pentru cercetarea patrimoniului artistic al MN
 AR.\n&nbsp\;\nDragoș Gh. Năstăsoiu - Câștigătorul Bursei Fundației Bonte p
 entru cercetarea patrimoniului artistic al MNAR\, ediția 2023\nMuzeul Nați
 onal de Artă al României\, în parteneriat cu Fundația Bonte\, au plăcerea 
 să anunțe că dnul Dragoș Gh. Năstăsoiu a fost desemnat câștigătorul Bursei
  Fundației Bonte pentru cercetarea patrimoniului artistic al MNAR\, ediția
  2023\, cu un proiect de cercetare intitulat “Pulchra res est !” Circulați
 a orfevrăriei transilvănene în Principatele Valahiei și Moldovei între sec
 olele al XIV-lea și al XVII-lea.~Absolvent al Facultăţii de Istoria şi Teo
 ria Artei (UNArte\, Bucureşti\, 2008)\, Dragoş Gh. Năstăsoiu a obţinut un 
 masterat (2009) şi un doctorat (2018) în Istorie şi Studii Medievale din p
 artea Universităţii Central Europene din Budapesta/Viena.A fost cercetător
  ştiinţific la Centrul de Studii Medievale al Universităţii Naţionale de C
 ercetare “Şcoala Superioară de Economie” din Moscova (2018-2021) şi a deţi
 nut în trecut diferite burse de cercetare acordate de: Centre for Advanced
  Study din Sofia (2023)\, New Europe College – Institute for Advanced Stud
 y din Bucureşti (2022/23)\, Institutul de Istoria Artei al Academiei Slova
 ce de Ştiinţe din Bratislava (2021/22)\, Institutul Cultural Român din Buc
 ureşti (2016)\, American Research Center din Sofia (2014/15)\, Universitat
 ea “Sfinţii Chiril şi Metodie” din Veliko Târnovo (2013/14) ori Universita
 tea din Trnava (2013). A fost CEMS Teaching Fellow la Facultatea de Istori
 a Artei a Universităţii de Stat “Ivane Javakhishvili” din Tbilisi (2012) ş
 i a predat diferite cursuri la ACS Bucureşti (2023)\, HSE Moscova (2018/21
 )\, IJSU Tbilisi (2012) şi UNArte Bucureşti (2009/10).\nEste autorul cărţi
 i Arta gotică în România / Gothic Art in Romania (NOI Media Print\, Bucure
 şti\, 2010)\, coautorul cărţii Monumente Medievale de pe Valea Târnavelor 
 / Mittelalterliche Denkmäler im Tal der Großen Kokel (ACS\, Bucureşti\, 20
 18 şi 2022\, împreună cu restauratorii Ferenc Mihály şi Lóránd Kiss)\, pre
 cum şi autorul a numeroase articole ştiinţifice publicate în prestigioase 
 reviste internaţionale de specialitate. Interesele sale de cercetare inclu
 d: pictura murală medievală în fostul Regat al Ungariei şi Europa Centrală
 \; trasferurile artistice interculturale între Bizanţ şi Occident\; cultur
 ile sfinţilor şi arta religioasă ca instrumente ale propagandei politice m
 edievale\; pelerinajele medievale\; sau construcţia genului feminin în Evu
 l Mediu.\n&nbsp\;\n&nbsp\;\n&nbsp\;\n&nbsp\; https://mnar.ro/arhiva-evenim
 entelor/eveniment/698-concurs-pentru-acordarea-bursei-bonte-2023-–-2024-câ
 știgătorul-concursului-domnul-dragoș-gh-năstăsoiu
DTSTART:20230818T123953Z
DTEND:20231201T153953Z
LOCATION:Muzeul Național de Artă al României (Calea Victoriei 49-53\, Bucur
 ești\, România)
SUMMARY:Concurs pentru acordarea Bursei Bonte 2023 – 2024 - Câștigătorul co
 ncursului domnul  Dragoș Gh. Năstăsoiu
URL:https://mnar.ro/arhiva-evenimentelor/eveniment/698-concurs-pentru-acord
 area-bursei-bonte-2023-–-2024-câștigătorul-concursului-domnul-dragoș-gh-nă
 stăsoiu
END:VEVENT
END:VCALENDAR
